BEGIN:VCALENDAR
PRODID:-//AT Content Types//AT Event//EN
VERSION:1.0
BEGIN:VEVENT
DTSTART:20221012T090000Z
DTEND:20221012T101500Z
DCREATED:20221003T151559Z
UID:ATEvent-5dddefe6ce3a4a50a0f1a5d8eb81f077
SEQUENCE:0
LAST-MODIFIED:20221007T081426Z
SUMMARY:Inflazione\, cambi ed energia: una strategia oltre l’emergenza
LOCATION:Online
PRIORITY:3
TRANSP:0
END:VEVENT
END:VCALENDAR
