BEGIN:VCALENDAR
PRODID:-//AT Content Types//AT Event//EN
VERSION:2.0
METHOD:PUBLISH
BEGIN:VEVENT
DTSTAMP:20260424T105534Z
CREATED:20150923T200958Z
UID:ATEvent-b553ff2799fa4792ac174bf4313252ea
LAST-MODIFIED:20151015T103416Z
SUMMARY:Industrial competitiveness through digital production and a coherent energy and climate policy
DTSTART:20151015T123000Z
DTEND:20151016T103000Z
DESCRIPTION:Il forum di quest’anno sarà dedicato ad analizzare come
  la digitalizzazione dell’industria\, le politiche climatiche ed ene
 rgetiche\, e gli investimenti possano contribuire al rilancio della cr
 escita in Europa
LOCATION:Bolzano
CLASS:PUBLIC
END:VEVENT
END:VCALENDAR
