BEGIN:VCALENDAR
PRODID:-//AT Content Types//AT Event//EN
VERSION:2.0
METHOD:PUBLISH
BEGIN:VEVENT
DTSTAMP:20260422T125423Z
CREATED:20161115T145200Z
UID:ATEvent-8b832ed19ba04dcba0fdd1f7ba7cadfb
LAST-MODIFIED:20161124T150841Z
SUMMARY:Industria 4.0. Italia ed Europa verso la fabbrica intelligente
DTSTART:20161129T150000Z
DTEND:20161129T170000Z
LOCATION:Lecco
CLASS:PUBLIC
END:VEVENT
END:VCALENDAR
