BEGIN:VCALENDAR
PRODID:-//AT Content Types//AT Event//EN
VERSION:2.0
METHOD:PUBLISH
BEGIN:VEVENT
DTSTAMP:20260425T210214Z
CREATED:20160829T160329Z
UID:ATEvent-1b8ccf02fa3545a68237d2820025c2bd
LAST-MODIFIED:20160829T160401Z
SUMMARY:Industria 4.0 in Italia: l'indagine di Federmeccanica
DTSTART:20160921T073000Z
DTEND:20160921T110000Z
LOCATION:Roma
CLASS:PUBLIC
END:VEVENT
END:VCALENDAR
