BEGIN:VCALENDAR
PRODID:-//AT Content Types//AT Event//EN
VERSION:2.0
METHOD:PUBLISH
BEGIN:VEVENT
DTSTAMP:20260421T082732Z
CREATED:20170404T101920Z
UID:ATEvent-08d6e08817884b039c6dcf80663c7721
LAST-MODIFIED:20170404T101947Z
SUMMARY:Industria 4.0 – Servizio di Orientamento tecnologico alle imprese
DTSTART:20170413T083000Z
DTEND:20170413T110000Z
LOCATION:Sondrio
CLASS:PUBLIC
END:VEVENT
END:VCALENDAR
