BEGIN:VCALENDAR
PRODID:-//AT Content Types//AT Event//EN
VERSION:1.0
BEGIN:VEVENT
DTSTART:20160703T220000Z
DTEND:20160703T220000Z
DCREATED:20160530T162600Z
UID:ATEvent-db12dee298aa4e0ba1f3c8f3c0892f5f
SEQUENCE:0
LAST-MODIFIED:20160530T162651Z
SUMMARY:India - Textile machineries & Food processing
DESCRIPTION:Nuovo incontro del ciclo "Mercati & Filiere": India - Text
 ile machineries & Food processing - dimostrazione di interesse
LOCATION:Bergamo
PRIORITY:3
TRANSP:0
END:VEVENT
END:VCALENDAR
