BEGIN:VCALENDAR
PRODID:-//AT Content Types//AT Event//EN
VERSION:2.0
METHOD:PUBLISH
BEGIN:VEVENT
DTSTAMP:20260424T183110Z
CREATED:20230922T141159Z
UID:ATEvent-94edbf69227c4174a135c82eef0a19e9
LAST-MODIFIED:20230922T141614Z
SUMMARY:India Opportunity Day
DTSTART:20230926T140000Z
DTEND:20230926T163000Z
LOCATION:Bergamo
CLASS:PUBLIC
END:VEVENT
END:VCALENDAR
