BEGIN:VCALENDAR
PRODID:-//AT Content Types//AT Event//EN
VERSION:1.0
BEGIN:VEVENT
DTSTART:20250708T123000Z
DTEND:20250708T150000Z
DCREATED:20250616T105645Z
UID:ATEvent-df61259dd9384c6a9e5c6dcf78c4a332
SEQUENCE:0
LAST-MODIFIED:20251118T102309Z
SUMMARY:Rapporto Indagine Internazionalizzazione 2025
DESCRIPTION:L'impatto della geopolitica sulle strategie delle imprese 
 lombarde
LOCATION:Milano
PRIORITY:3
TRANSP:0
END:VEVENT
END:VCALENDAR
