BEGIN:VCALENDAR
PRODID:-//AT Content Types//AT Event//EN
VERSION:1.0
BEGIN:VEVENT
DTSTART:20190604T080000Z
DTEND:20190604T103000Z
DCREATED:20190529T162316Z
UID:ATEvent-f1458a40c98e415793df9b87cbf64758
SEQUENCE:0
LAST-MODIFIED:20190529T162408Z
SUMMARY:Incontri legali individuali per le aziende
LOCATION:Bergamo
PRIORITY:3
TRANSP:0
END:VEVENT
END:VCALENDAR
