BEGIN:VCALENDAR
PRODID:-//AT Content Types//AT Event//EN
VERSION:2.0
METHOD:PUBLISH
BEGIN:VEVENT
DTSTAMP:20260424T063616Z
CREATED:20181208T150932Z
UID:ATEvent-5ffa0723645e4344b27a84e9cf9206d7
LAST-MODIFIED:20181208T150940Z
SUMMARY:Incontra i diplomandi bergamaschi
DTSTART:20181220T070000Z
DTEND:20181220T173000Z
DESCRIPTION:Scadenza iscrizioni
LOCATION:Bergamo
CLASS:PUBLIC
END:VEVENT
END:VCALENDAR
