BEGIN:VCALENDAR
PRODID:-//AT Content Types//AT Event//EN
VERSION:1.0
BEGIN:VEVENT
DTSTART:20231121T100000Z
DTEND:20231121T124500Z
DCREATED:20231113T161730Z
UID:ATEvent-cc32e26da72946cc8a6f79e1f5404b79
SEQUENCE:0
LAST-MODIFIED:20231113T161749Z
SUMMARY:Incentivare l’imprenditorialità femminile: la parola alle donne che decidono
LOCATION:Grassobbio
PRIORITY:3
TRANSP:0
END:VEVENT
END:VCALENDAR
