BEGIN:VCALENDAR
PRODID:-//AT Content Types//AT Event//EN
VERSION:2.0
METHOD:PUBLISH
BEGIN:VEVENT
DTSTAMP:20260424T204751Z
CREATED:20151016T125427Z
UID:ATEvent-e223433f2aa440b0959f9f2529d7ce83
LAST-MODIFIED:20151016T125450Z
SUMMARY:Imprese e Innovazione: Horizon 2020\, fondi regionali e cluster tecnologici
DTSTART:20151022T124500Z
DTEND:20151022T160000Z
LOCATION:Mantova
CLASS:PUBLIC
END:VEVENT
END:VCALENDAR
