BEGIN:VCALENDAR
PRODID:-//AT Content Types//AT Event//EN
VERSION:2.0
METHOD:PUBLISH
BEGIN:VEVENT
DTSTAMP:20260421T083030Z
CREATED:20240614T152441Z
UID:ATEvent-a80361c837c1443cb3a4d2e7e036f241
LAST-MODIFIED:20240614T152615Z
SUMMARY:Imprese e consumatori: impatto e strategie di contrasto delle truffe tramite impersoniﬁcazione
DTSTART:20240618T080000Z
DTEND:20240618T100000Z
LOCATION:Milano
CLASS:PUBLIC
END:VEVENT
END:VCALENDAR
