BEGIN:VCALENDAR
PRODID:-//AT Content Types//AT Event//EN
VERSION:2.0
METHOD:PUBLISH
BEGIN:VEVENT
DTSTAMP:20260422T155541Z
CREATED:20190530T150048Z
UID:ATEvent-e1750549d6044eaea4ff6c25edcfe71e
LAST-MODIFIED:20190530T150215Z
SUMMARY:Impianti aperti
DTSTART:20190608T080000Z
DTEND:20190608T120000Z
DESCRIPTION:REA Dalmine apre le porte in occasione della giornata mond
 iale dell'ambiente
LOCATION:Dalmine (BG)
CLASS:PUBLIC
END:VEVENT
END:VCALENDAR
