BEGIN:VCALENDAR
PRODID:-//AT Content Types//AT Event//EN
VERSION:1.0
BEGIN:VEVENT
DTSTART:20210408T070000Z
DTEND:20210408T110000Z
DCREATED:20210330T171838Z
UID:ATEvent-71a7f8baf26645abbdfd7908bd875c5c
SEQUENCE:0
LAST-MODIFIED:20210330T171842Z
SUMMARY:Impatto post Brexit: gli scambi con UK alla luce dell'Accordo Commerciale e di Cooperazione (TCA)
LOCATION:On line
PRIORITY:3
TRANSP:0
END:VEVENT
END:VCALENDAR
