BEGIN:VCALENDAR
PRODID:-//AT Content Types//AT Event//EN
VERSION:2.0
METHOD:PUBLISH
BEGIN:VEVENT
DTSTAMP:20260423T230129Z
CREATED:20190521T095630Z
UID:ATEvent-999b760b39bd4c758ff1ebfee9b314cb
LAST-MODIFIED:20190521T095641Z
SUMMARY:Imballaggi: quale gestione negli altri Paesi europei
DTSTART:20190530T074500Z
DTEND:20190530T110000Z
LOCATION:Bergamo
CLASS:PUBLIC
END:VEVENT
END:VCALENDAR
