BEGIN:VCALENDAR
PRODID:-//AT Content Types//AT Event//EN
VERSION:2.0
METHOD:PUBLISH
BEGIN:VEVENT
DTSTAMP:20260424T053714Z
CREATED:20180703T140238Z
UID:ATEvent-5cb5bf0dd2fe4908a136c796f8f0268f
LAST-MODIFIED:20180703T141125Z
SUMMARY:Il Welfare in azienda
DTSTART:20180712T073000Z
DTEND:20180712T110000Z
LOCATION:Milano
CLASS:PUBLIC
END:VEVENT
END:VCALENDAR
