BEGIN:VCALENDAR
PRODID:-//AT Content Types//AT Event//EN
VERSION:2.0
METHOD:PUBLISH
BEGIN:VEVENT
DTSTAMP:20260422T225952Z
CREATED:20210419T094017Z
UID:ATEvent-51bbf671a9aa4588b2ae7242005a5afc
LAST-MODIFIED:20210419T094023Z
SUMMARY:Il vantaggio del rafforzamento patrimoniale e gli strumenti fiscali e finanziari a supporto delle imprese
DTSTART:20210419T123000Z
DTEND:20210419T143000Z
LOCATION:On line
CLASS:PUBLIC
END:VEVENT
END:VCALENDAR
