BEGIN:VCALENDAR
PRODID:-//AT Content Types//AT Event//EN
VERSION:2.0
METHOD:PUBLISH
BEGIN:VEVENT
DTSTAMP:20260421T174307Z
CREATED:20230529T093447Z
UID:ATEvent-a1843fd899284ad0a7cbf7174cfe2fdc
LAST-MODIFIED:20230531T152651Z
SUMMARY:Il valore strategico del passaggio generazionale
DTSTART:20230613T140000Z
DTEND:20230613T153000Z
LOCATION:Busto Arsizio (VA)
CLASS:PUBLIC
END:VEVENT
END:VCALENDAR
