BEGIN:VCALENDAR
PRODID:-//AT Content Types//AT Event//EN
VERSION:2.0
METHOD:PUBLISH
BEGIN:VEVENT
DTSTAMP:20260424T070525Z
CREATED:20230427T110303Z
UID:ATEvent-f85e3f5b1d5547cf9ccb26c9dcc03ebf
LAST-MODIFIED:20230427T110405Z
SUMMARY:Il valore della sostenibilità per le MPMI del settore delle costruzioni: prepararsi a “fare impresa” nel prossimo futuro.
DTSTART:20230518T080000Z
DTEND:20230518T110000Z
DESCRIPTION:Webinar: 11 maggio e 18 maggio 2023
LOCATION:On line
CLASS:PUBLIC
END:VEVENT
END:VCALENDAR
