BEGIN:VCALENDAR
PRODID:-//AT Content Types//AT Event//EN
VERSION:2.0
METHOD:PUBLISH
BEGIN:VEVENT
DTSTAMP:20260422T183504Z
CREATED:20190527T125954Z
UID:ATEvent-52969a9d6b98435ebb59a1cb49b0f387
LAST-MODIFIED:20190603T134155Z
SUMMARY:Il valore dell’innovazione nella Filiera Life Sciences
DTSTART:20190606T080000Z
DTEND:20190606T100000Z
DESCRIPTION:Il ruolo dei dispositivi medici per la salute dei cittadin
 i e per la sostenibilità del SSN
LOCATION:Milano
CLASS:PUBLIC
END:VEVENT
END:VCALENDAR
