BEGIN:VCALENDAR
PRODID:-//AT Content Types//AT Event//EN
VERSION:1.0
BEGIN:VEVENT
DTSTART:20210330T080000Z
DTEND:20210330T100000Z
DCREATED:20210324T221324Z
UID:ATEvent-701711c46d344868a4a6fa31e6079e31
SEQUENCE:0
LAST-MODIFIED:20210324T221412Z
SUMMARY:Il trasporto internazionale delle merci via aereo: gli aspetti normativi e le opportunità del settore
LOCATION:On line
PRIORITY:3
TRANSP:0
END:VEVENT
END:VCALENDAR
