BEGIN:VCALENDAR
PRODID:-//AT Content Types//AT Event//EN
VERSION:1.0
BEGIN:VEVENT
DTSTART:20231120T150000Z
DTEND:20231120T170000Z
DCREATED:20231117T105751Z
UID:ATEvent-b0dbc055a39047d5a6ba7e29992953d9
SEQUENCE:0
LAST-MODIFIED:20231117T105906Z
SUMMARY:Il titolare effettivo delle imprese: individuazione e obblighi di comunicazione entro l'11 dicembre 2023
LOCATION:Bergamo
PRIORITY:3
TRANSP:0
END:VEVENT
END:VCALENDAR
