BEGIN:VCALENDAR
PRODID:-//AT Content Types//AT Event//EN
VERSION:2.0
METHOD:PUBLISH
BEGIN:VEVENT
DTSTAMP:20260421T082304Z
CREATED:20220720T132150Z
UID:ATEvent-29ec85e7d5134ff78f3954dc3cc0846b
LAST-MODIFIED:20220720T132546Z
SUMMARY:Il Settore Terziario si incontra
DTSTART:20220720T163000Z
DTEND:20220720T183000Z
DESCRIPTION:Quinta tappa roadshow Confindustria Brescia - Settore Terz
 iario
LOCATION:Brescia
CLASS:PUBLIC
END:VEVENT
END:VCALENDAR
