BEGIN:VCALENDAR
PRODID:-//AT Content Types//AT Event//EN
VERSION:2.0
METHOD:PUBLISH
BEGIN:VEVENT
DTSTAMP:20260422T171219Z
CREATED:20190603T135656Z
UID:ATEvent-9bd4e1fee71b41c2865e0b329806ebcb
LAST-MODIFIED:20190603T135705Z
SUMMARY:Il ruolo dell'azionista
DTSTART:20190610T150000Z
DTEND:20190610T170000Z
DESCRIPTION:11° lezione del  Progetto Figli del Capo - Introduzione a
 l mestiere di imprenditore
LOCATION:Milano
CLASS:PUBLIC
END:VEVENT
END:VCALENDAR
