BEGIN:VCALENDAR
PRODID:-//AT Content Types//AT Event//EN
VERSION:2.0
METHOD:PUBLISH
BEGIN:VEVENT
DTSTAMP:20260421T145331Z
CREATED:20170404T091331Z
UID:ATEvent-f0d38c1fa84e4dacaea896cc67591311
LAST-MODIFIED:20170404T091354Z
SUMMARY:Il ruolo del chimico in una società che cambia
DTSTART:20170406T144500Z
DTEND:20170406T170000Z
DESCRIPTION:Confronto tra università e impresa
LOCATION:Como
CLASS:PUBLIC
END:VEVENT
END:VCALENDAR
