BEGIN:VCALENDAR
PRODID:-//AT Content Types//AT Event//EN
VERSION:1.0
BEGIN:VEVENT
DTSTART:20220412T123000Z
DTEND:20220412T150000Z
DCREATED:20220408T141621Z
UID:ATEvent-5c8eb7ad628a4d479a975af17dcd28a6
SEQUENCE:0
LAST-MODIFIED:20220408T141822Z
SUMMARY:Il rischio climatico in Italia e lo sviluppo del mercato assicurativo
LOCATION:On line
PRIORITY:3
TRANSP:0
END:VEVENT
END:VCALENDAR
