BEGIN:VCALENDAR
PRODID:-//AT Content Types//AT Event//EN
VERSION:2.0
METHOD:PUBLISH
BEGIN:VEVENT
DTSTAMP:20260424T111158Z
CREATED:20240207T173034Z
UID:ATEvent-abc331ff40f5497184f3a99e4ba7eec0
LAST-MODIFIED:20240207T173037Z
SUMMARY:Il RENTRI e i nuovi modelli di formulari e registri
DTSTART:20240227T131500Z
DTEND:20240227T143000Z
LOCATION:Online
CLASS:PUBLIC
END:VEVENT
END:VCALENDAR
