BEGIN:VCALENDAR
PRODID:-//AT Content Types//AT Event//EN
VERSION:2.0
METHOD:PUBLISH
BEGIN:VEVENT
DTSTAMP:20260421T151150Z
CREATED:20220411T191216Z
UID:ATEvent-1a8a46bab631428692346dd656157194
LAST-MODIFIED:20220411T191350Z
SUMMARY:Il reato di corruzione tra privati e la responsabilità amministrativa degli enti: a che punto siamo?
DTSTART:20220414T073000Z
DTEND:20220414T093000Z
LOCATION:On line
CLASS:PUBLIC
END:VEVENT
END:VCALENDAR
