BEGIN:VCALENDAR
PRODID:-//AT Content Types//AT Event//EN
VERSION:2.0
METHOD:PUBLISH
BEGIN:VEVENT
DTSTAMP:20260423T165835Z
CREATED:20170925T135924Z
UID:ATEvent-d614a1e865104419ab0c2de3848a9959
LAST-MODIFIED:20171003T124430Z
SUMMARY:Il rapporto di agenzia
DTSTART:20171011T123000Z
DTEND:20171011T153000Z
LOCATION:Milano
CLASS:PUBLIC
END:VEVENT
END:VCALENDAR
