BEGIN:VCALENDAR
PRODID:-//AT Content Types//AT Event//EN
VERSION:1.0
BEGIN:VEVENT
DTSTART:20190118T083000Z
DTEND:20190118T120000Z
DCREATED:20190107T164132Z
UID:ATEvent-c540ce326af745a8be4e1a5219eeb57c
SEQUENCE:0
LAST-MODIFIED:20190107T164156Z
SUMMARY:Il progetto europeo EE-Metal: risultati e prospettive
DESCRIPTION:Metodologie e strumenti per l'efficienza energetica delle 
 industrie nel settore della lavorazione dei metalli
LOCATION:Torbole Casaglia (BS)
PRIORITY:3
TRANSP:0
END:VEVENT
END:VCALENDAR
