BEGIN:VCALENDAR
PRODID:-//AT Content Types//AT Event//EN
VERSION:2.0
METHOD:PUBLISH
BEGIN:VEVENT
DTSTAMP:20260421T093042Z
CREATED:20250516T094051Z
UID:ATEvent-76a154651bcf446abd7d76190add3005
LAST-MODIFIED:20250520T094530Z
SUMMARY:Il procedimento disciplinare: dalla teoria alla pratica
DTSTART:20250521T073000Z
DTEND:20250521T100000Z
LOCATION:Pavia
CLASS:PUBLIC
END:VEVENT
END:VCALENDAR
