BEGIN:VCALENDAR
PRODID:-//AT Content Types//AT Event//EN
VERSION:2.0
METHOD:PUBLISH
BEGIN:VEVENT
DTSTAMP:20260424T081346Z
CREATED:20221013T101142Z
UID:ATEvent-b185dc31ce99452f86c0ac57b6104ea0
LAST-MODIFIED:20221020T095551Z
SUMMARY:Il principio del DNSH nella tassonomia
DTSTART:20221020T080000Z
DTEND:20221020T093000Z
LOCATION:Online
CLASS:PUBLIC
END:VEVENT
END:VCALENDAR
