BEGIN:VCALENDAR
PRODID:-//AT Content Types//AT Event//EN
VERSION:1.0
BEGIN:VEVENT
DTSTART:20180222T133000Z
DTEND:20180222T163000Z
DCREATED:20180216T152632Z
UID:ATEvent-f149eb6c7be345abb0b14562f54051e0
SEQUENCE:0
LAST-MODIFIED:20180216T152641Z
SUMMARY:Il "passaggio di testimone" nelle aziende familiari: perché\, quando e come
LOCATION:Milano
PRIORITY:3
TRANSP:0
END:VEVENT
END:VCALENDAR
