BEGIN:VCALENDAR
PRODID:-//AT Content Types//AT Event//EN
VERSION:1.0
BEGIN:VEVENT
DTSTART:20220224T140000Z
DTEND:20220224T160000Z
DCREATED:20220223T144925Z
UID:ATEvent-e37686a64a874daa9011f6698207ef12
SEQUENCE:0
LAST-MODIFIED:20220223T145023Z
SUMMARY:Il nuovo sistema brevettuale unitario
LOCATION:On line
PRIORITY:3
TRANSP:0
END:VEVENT
END:VCALENDAR
