BEGIN:VCALENDAR
PRODID:-//AT Content Types//AT Event//EN
VERSION:1.0
BEGIN:VEVENT
DTSTART:20240221T100000Z
DTEND:20240221T113000Z
DCREATED:20240216T155406Z
UID:ATEvent-ad28ccc3a01749f796d90113ecbbefc6
SEQUENCE:0
LAST-MODIFIED:20240216T155420Z
SUMMARY:Il nuovo regolamento UE sulle batterie: cosa cambia per le imprese?
LOCATION:Online
PRIORITY:3
TRANSP:0
END:VEVENT
END:VCALENDAR
