BEGIN:VCALENDAR
PRODID:-//AT Content Types//AT Event//EN
VERSION:1.0
BEGIN:VEVENT
DTSTART:20230628T080000Z
DTEND:20230628T110000Z
DCREATED:20230619T082517Z
UID:ATEvent-9235ce88530746e98ab42792474df11e
SEQUENCE:0
LAST-MODIFIED:20230619T092745Z
SUMMARY:Il nuovo quadro normativo in materia di appalti pubblici: un cambio di paradigma
LOCATION:Roma
PRIORITY:3
TRANSP:0
END:VEVENT
END:VCALENDAR
