BEGIN:VCALENDAR
PRODID:-//AT Content Types//AT Event//EN
VERSION:2.0
METHOD:PUBLISH
BEGIN:VEVENT
DTSTAMP:20260421T134316Z
CREATED:20250908T154642Z
UID:ATEvent-e28c6d58f0454838b13dc9b421c0d0b9
LAST-MODIFIED:20250908T154740Z
SUMMARY:Il nuovo Menu del Consumo: Industria e GDO di fronte al cambiamento – nuovi sapori\, nuove abitudini
DTSTART:20250918T150000Z
DTEND:20250918T170000Z
DESCRIPTION:Cambiamenti nei gusti e nelle abitudini di consumo pongono
  nuove sfide all’intera filiera agroalimentare\, oggi chiamata a rip
 ensare prodotti e modelli in un menu in continua evoluzione.
LOCATION:Brescia
CLASS:PUBLIC
END:VEVENT
END:VCALENDAR
