BEGIN:VCALENDAR
PRODID:-//AT Content Types//AT Event//EN
VERSION:1.0
BEGIN:VEVENT
DTSTART:20230718T070000Z
DTEND:20230718T110000Z
DCREATED:20230704T160412Z
UID:ATEvent-7be6c11c0035489c94e798754b424e6f
SEQUENCE:0
LAST-MODIFIED:20230704T160434Z
SUMMARY:Il nuovo codice dei contratti pubblici: principali novità e prime riflessioni
LOCATION:Milano
PRIORITY:3
TRANSP:0
END:VEVENT
END:VCALENDAR
