BEGIN:VCALENDAR
PRODID:-//AT Content Types//AT Event//EN
VERSION:2.0
METHOD:PUBLISH
BEGIN:VEVENT
DTSTAMP:20260425T201413Z
CREATED:20230703T152213Z
UID:ATEvent-d9430a01dac348a8b154791140c83f44
LAST-MODIFIED:20230703T152221Z
SUMMARY:Il nuovo Codice dei contratti pubblici. I requisiti di ordine generale dell’operatore economico\, cause di esclusione\, self-cleaning e rating d’impresa
DTSTART:20230706T080000Z
DTEND:20230706T090000Z
LOCATION:On line
CLASS:PUBLIC
END:VEVENT
END:VCALENDAR
