BEGIN:VCALENDAR
PRODID:-//AT Content Types//AT Event//EN
VERSION:2.0
METHOD:PUBLISH
BEGIN:VEVENT
DTSTAMP:20260425T171724Z
CREATED:20161019T103830Z
UID:ATEvent-69120cd1bac5448993a536e349195b68
LAST-MODIFIED:20161019T103850Z
SUMMARY:Il nuovo codice appalti
DTSTART:20161108T083000Z
DTEND:20161108T123000Z
DESCRIPTION:l'applicazione concreta a sei mesi dall'entrata in vigore
LOCATION:Milano
CLASS:PUBLIC
END:VEVENT
END:VCALENDAR
