BEGIN:VCALENDAR
PRODID:-//AT Content Types//AT Event//EN
VERSION:1.0
BEGIN:VEVENT
DTSTART:20240222T103000Z
DTEND:20240222T120000Z
DCREATED:20240209T201047Z
UID:ATEvent-59c2b9261ac14b3d9c89dc73c8f46222
SEQUENCE:0
LAST-MODIFIED:20240212T101846Z
SUMMARY:Il nuovo “de minimis”: luci\, ombre e gli impatti sul Fondo di Garanzia e sulle principali agevolazioni
DESCRIPTION:Aumenta a 300.000 € il plafond\, ma anche il calcolo a 3
 6 mesi dalla data di concessione dei contributi. Verranno illustrate l
 e nuove regole\, forniti consigli e presentato il supporto di Assolomb
 arda.
LOCATION:Online
PRIORITY:3
TRANSP:0
END:VEVENT
END:VCALENDAR
