BEGIN:VCALENDAR
PRODID:-//AT Content Types//AT Event//EN
VERSION:1.0
BEGIN:VEVENT
DTSTART:20190121T163000Z
DTEND:20190121T180000Z
DCREATED:20190107T163441Z
UID:ATEvent-02e7dd7c7ae64a2185a378cdcfe4cfd5
SEQUENCE:0
LAST-MODIFIED:20190107T163502Z
SUMMARY:Il mondo cambia pelle
DESCRIPTION:XXIII Rapporto sull'economia globale e l'Italia - A cura d
 i Mario Deaglio
LOCATION:Milano
PRIORITY:3
TRANSP:0
END:VEVENT
END:VCALENDAR
