BEGIN:VCALENDAR
PRODID:-//AT Content Types//AT Event//EN
VERSION:2.0
METHOD:PUBLISH
BEGIN:VEVENT
DTSTAMP:20260421T131432Z
CREATED:20250902T133722Z
UID:ATEvent-07c6049e579d4650ac4ce13d28e17670
LAST-MODIFIED:20250904T140938Z
SUMMARY:Il modello OT23 per la riduzione del tasso Inail 2026
DTSTART:20250916T123000Z
DTEND:20250916T140000Z
LOCATION:Online
CLASS:PUBLIC
END:VEVENT
END:VCALENDAR
