BEGIN:VCALENDAR
PRODID:-//AT Content Types//AT Event//EN
VERSION:1.0
BEGIN:VEVENT
DTSTART:20190603T073000Z
DTEND:20190603T143000Z
DCREATED:20190523T083519Z
UID:ATEvent-69d6fe4cef0c4ddd96113879230ab3d1
SEQUENCE:0
LAST-MODIFIED:20190523T083818Z
SUMMARY:Il mobility manager come figura chiave per la gestione della mobilità
LOCATION:Milano
PRIORITY:3
TRANSP:0
END:VEVENT
END:VCALENDAR
