BEGIN:VCALENDAR
PRODID:-//AT Content Types//AT Event//EN
VERSION:1.0
BEGIN:VEVENT
DTSTART:20190121T133000Z
DTEND:20190121T153000Z
DCREATED:20190110T155432Z
UID:ATEvent-d564dfc59b3444f79d44b5a32b825519
SEQUENCE:0
LAST-MODIFIED:20190110T155914Z
SUMMARY:Il mercato dell'infanzia in Cina
LOCATION:Bergamo
PRIORITY:3
TRANSP:0
END:VEVENT
END:VCALENDAR
