BEGIN:VCALENDAR
PRODID:-//AT Content Types//AT Event//EN
VERSION:1.0
BEGIN:VEVENT
DTSTART:20221012T070000Z
DTEND:20221012T080000Z
DCREATED:20221007T131611Z
UID:ATEvent-f347702e70d942ce8b36b665fb0d6855
SEQUENCE:0
LAST-MODIFIED:20221007T133906Z
SUMMARY:Il kit di SACE e Simest a supporto di progetti di sostenibilità e di internazionalizzazione
LOCATION:Brescia e Online
PRIORITY:3
TRANSP:0
END:VEVENT
END:VCALENDAR
