BEGIN:VCALENDAR
PRODID:-//AT Content Types//AT Event//EN
VERSION:1.0
BEGIN:VEVENT
DTSTART:20221019T143000Z
DTEND:20221019T160000Z
DCREATED:20221010T100459Z
UID:ATEvent-60342c538cd9430385844cb13533a2bc
SEQUENCE:0
LAST-MODIFIED:20221011T143240Z
SUMMARY:Il grado di maturità digitale delle Pmi: quanto è diffusa l'intelligenza artificiale nelle imprese lombarde?
LOCATION:Gallarate
PRIORITY:3
TRANSP:0
END:VEVENT
END:VCALENDAR
