BEGIN:VCALENDAR
PRODID:-//AT Content Types//AT Event//EN
VERSION:1.0
BEGIN:VEVENT
DTSTART:20220622T093000Z
DTEND:20220622T110000Z
DCREATED:20220617T134521Z
UID:ATEvent-cca7bc3023e04b83b1987a8bcb0ef5d2
SEQUENCE:0
LAST-MODIFIED:20220617T140525Z
SUMMARY:Il futuro dell'energia visto dalle grandi aziende
LOCATION:On line
PRIORITY:3
TRANSP:0
END:VEVENT
END:VCALENDAR
