BEGIN:VCALENDAR
PRODID:-//AT Content Types//AT Event//EN
VERSION:1.0
BEGIN:VEVENT
DTSTART:20180220T133000Z
DTEND:20180220T163000Z
DCREATED:20180213T165238Z
UID:ATEvent-7c94590cadda43c2b1c55bc81d786b24
SEQUENCE:0
LAST-MODIFIED:20180213T165259Z
SUMMARY:Il Fondo di Integrazione Salariale: contribuzione e prestazioni
LOCATION:Milano
PRIORITY:3
TRANSP:0
END:VEVENT
END:VCALENDAR
